BEGIN:VCALENDAR
VERSION:2.0
PRODID:-//Brandschutz Akademie Berlin GmbH - ECPv6.15.12.2//NONSGML v1.0//EN
CALSCALE:GREGORIAN
METHOD:PUBLISH
X-WR-CALNAME:Brandschutz Akademie Berlin GmbH
X-ORIGINAL-URL:https://brandschutz-akademie-berlin.de
X-WR-CALDESC:Veranstaltungen für Brandschutz Akademie Berlin GmbH
REFRESH-INTERVAL;VALUE=DURATION:PT1H
X-Robots-Tag:noindex
X-PUBLISHED-TTL:PT1H
BEGIN:VTIMEZONE
TZID:Europe/Berlin
BEGIN:DAYLIGHT
TZOFFSETFROM:+0100
TZOFFSETTO:+0200
TZNAME:CEST
DTSTART:20130331T010000
END:DAYLIGHT
BEGIN:STANDARD
TZOFFSETFROM:+0200
TZOFFSETTO:+0100
TZNAME:CET
DTSTART:20131027T010000
END:STANDARD
BEGIN:DAYLIGHT
TZOFFSETFROM:+0100
TZOFFSETTO:+0200
TZNAME:CEST
DTSTART:20140330T010000
END:DAYLIGHT
BEGIN:STANDARD
TZOFFSETFROM:+0200
TZOFFSETTO:+0100
TZNAME:CET
DTSTART:20141026T010000
END:STANDARD
BEGIN:DAYLIGHT
TZOFFSETFROM:+0100
TZOFFSETTO:+0200
TZNAME:CEST
DTSTART:20150329T010000
END:DAYLIGHT
BEGIN:STANDARD
TZOFFSETFROM:+0200
TZOFFSETTO:+0100
TZNAME:CET
DTSTART:20151025T010000
END:STANDARD
END:VTIMEZONE
BEGIN:VEVENT
DTSTART;TZID=Europe/Berlin:20140628T140000
DTEND;TZID=Europe/Berlin:20140628T180000
DTSTAMP:20260420T014328
CREATED:20140528T064125Z
LAST-MODIFIED:20140625T203825Z
UID:362-1403964000-1403978400@brandschutz-akademie-berlin.de
SUMMARY:Architektur bewegt
DESCRIPTION:WIR LADEN SIE EIN!\nDer Tag der Architektur findet 2014 am 28. Juni statt. \nUnsere Öffnungszeiten:\nSamstag 14:00 – 18:00 \nUnser Programm: \nWir stellen Ihnen Aufgaben\, Programm und Ziele der Brandschutz Akademie Berlin im Hinblick auf die Aus- und Weiterbildung von Architekten und Ingenieuren im Brandschutz vor. Gerne beantworten wir Ihre dringendsten Brandschutz-Fragen. \n16:00 Uhr Reinhard Eberl-Pacan liest aus:\nBrandschutz + Eine heftige Brandschutz Diskussion \nKunstausstellung \nUnter dem Motto “Architektur bewegt”bietet der “Tag der Architektur”\, ergänzt durch den “Tag der offenen Architekturbüros”\, allen Interessierten Einblick in die Büros von Architektinnen und Architekten sowie Stadtplanerinnen und Stadtplanern. Projekte und Büros in Berlin sind geöffnet für ein interessiertes Publikum\, Führungen werden angeboten\, Leistungsfähigkeit und Spezialisierungen vorgestellt.
URL:https://brandschutz-akademie-berlin.de/veranstaltung/architektur-bewegt/
LOCATION:Buero Eberl-Pacan Architekten + Ingenieure Brandschutz\, Fasanenstrasse 44\, Berlin\, Berlin\, 10719\, Germany
CATEGORIES:Tag der Architektur
ATTACH;FMTTYPE=image/jpeg:https://brandschutz-akademie-berlin.de/wp-content/uploads/2014/02/EinladungPanabild1600.jpg
END:VEVENT
END:VCALENDAR