BEGIN:VCALENDAR
VERSION:2.0
PRODID:-//Brandschutz Akademie Berlin GmbH - ECPv6.15.12.2//NONSGML v1.0//EN
CALSCALE:GREGORIAN
METHOD:PUBLISH
X-WR-CALNAME:Brandschutz Akademie Berlin GmbH
X-ORIGINAL-URL:https://brandschutz-akademie-berlin.de
X-WR-CALDESC:Veranstaltungen für Brandschutz Akademie Berlin GmbH
REFRESH-INTERVAL;VALUE=DURATION:PT1H
X-Robots-Tag:noindex
X-PUBLISHED-TTL:PT1H
BEGIN:VTIMEZONE
TZID:Europe/Berlin
BEGIN:DAYLIGHT
TZOFFSETFROM:+0100
TZOFFSETTO:+0200
TZNAME:CEST
DTSTART:20130331T010000
END:DAYLIGHT
BEGIN:STANDARD
TZOFFSETFROM:+0200
TZOFFSETTO:+0100
TZNAME:CET
DTSTART:20131027T010000
END:STANDARD
BEGIN:DAYLIGHT
TZOFFSETFROM:+0100
TZOFFSETTO:+0200
TZNAME:CEST
DTSTART:20140330T010000
END:DAYLIGHT
BEGIN:STANDARD
TZOFFSETFROM:+0200
TZOFFSETTO:+0100
TZNAME:CET
DTSTART:20141026T010000
END:STANDARD
BEGIN:DAYLIGHT
TZOFFSETFROM:+0100
TZOFFSETTO:+0200
TZNAME:CEST
DTSTART:20150329T010000
END:DAYLIGHT
BEGIN:STANDARD
TZOFFSETFROM:+0200
TZOFFSETTO:+0100
TZNAME:CET
DTSTART:20151025T010000
END:STANDARD
END:VTIMEZONE
BEGIN:VEVENT
DTSTART;TZID=Europe/Berlin:20140904T100000
DTEND;TZID=Europe/Berlin:20140904T180000
DTSTAMP:20260419T201344
CREATED:20140530T071418Z
LAST-MODIFIED:20150212T095338Z
UID:72-1409824800-1409853600@brandschutz-akademie-berlin.de
SUMMARY:4. Berliner Brandschutz-Fachgespräch
DESCRIPTION:4. Berliner Brandschutz-Fachgespräch 2014 zum Thema Brandschutz in Kindertagesstätten und Schulen\nAm 4. September 2014 fand bereits zum vierten Mal das Berliner Brandschutz-Fachgespräch statt. Dieses Jahr lautete das Thema „Brandschutz in Kindertagesstätten und Schulen“.\n\nGrundlage des Brandschutzes für Kindertagesstätten und Schulen ist eine intensive Auseinandersetzung mit den aktuellen Vorschriften und Richtlinien. \nDas 4. Berliner Brandschutz-Fachgespräch diskutierte die aktuelle Herangehensweise an die brandschutztechnische Beurteilung und befasste sich mit schutzzielorientierten Lösungen anhand bestehender Bauten. Innovative Kita-Projekte belegen\, dass u. a. durch Holzbauweise behagliche Räumlichkeiten entstehen können\, die zudem alle sicherheitstechnischen Anforderungen erfüllen. \nLink zum Youtube Kanal der Brandschutz Akademie Berlin (BAB) \n4. Berliner Brandschutz-Fachbespräch Highlights\nVorträge zum Download: \nArnhold_Erhard_4.BBF_Brandschutz_Kitas_Schulen_04.09.2014\nEberl-Pacan_Reinhard_4.BBF_Brandschutz_Kitas_Schulen_04.09.2014\nLeitl_Gerhard_4.BBF_Brandschutz_Kitas_Schulen_04.09.2014\nSchubert_Boris_Celsion_4.BBF_Brandschutz_Kitas_Schulen_04.09.2014 \nHier geht es zur Foto-Galerie \n4.Berliner Brandschutz-Fachgespräch Flyer \nVeranstalter: \nBrandschutz Akademie Berlin | Fasanenstr. 44 | 10719 Berlin\nTel. 030-700 800 950  | Fax 030-700 800 940 | info@brandschutz-akademie-berlin.de | www.brandwende.com \nDie Veranstaltung wird von Architekten- und Ingenieurkammern als Fortbildung anerkannt und mit einem Zertifikat bestätigt. \nWeiterführende Downloads zum Thema:\nH+ Praxis_Brandschutz in Kita und Schulen \nAussteller 2014\nArmacell Enterprise GmbH & Co. KG (Armaflex) \nCelsion Brandschutz-Systeme GmbH  \nDeutsche Rockwool GmbH & Co. KG \nDORMA Holding GmbH + CO. KG \nFLAMRO Brandschutz-Systeme GmbH \nGütegemeinschaft Brandschutz im Ausbau e.V. (GBA)  \nHekatron Vertriebs GmbH \nIFS IDEAL-Feuerschutz-Service GmbH \nJansen Brandschutz GmbH & Co. KG \nKGG Brandschutzsysteme GmbH  \nMERK Timber GmbH \nMistral DR. ERMER GmbH   \nRP Technik GmbH Profilsysteme \nsecudo GmbH  \nsvt Holding GmbH \nTENADO PROTECT \nWichmann Brandschutzsysteme GmbH & Co. KG \nWirtschaftsverband Brandschutz e.V \nZAPP-ZIMMERMANN GmbH \n  \nFeedback Zuschauer
URL:https://brandschutz-akademie-berlin.de/veranstaltung/bbf4-berliner-brandschutz-fachgespraech/
LOCATION:Spreespeicher\, Stralauer Allee 2a\, Berlin\, 10245\, Deutschland
CATEGORIES:Brandschutz-Fachgespräch,Newsletter
ATTACH;FMTTYPE=image/jpeg:https://brandschutz-akademie-berlin.de/wp-content/uploads/2014/01/PerspektiveAula.jpg
ORGANIZER;CN="Brandschutz Akademie Berlin (BAB)":MAILTO:info@brandschutz-akademie-berlin.de
END:VEVENT
BEGIN:VEVENT
DTSTART;TZID=Europe/Berlin:20140925T200000
DTEND;TZID=Europe/Berlin:20140925T230000
DTSTAMP:20260419T201344
CREATED:20140808T104857Z
LAST-MODIFIED:20141115T214207Z
UID:525-1411675200-1411686000@brandschutz-akademie-berlin.de
SUMMARY:15. Berlin-Brandenburger Brandschutz-Bier
DESCRIPTION:Das 15. Berlin-Brandenburger Brandschutz-Bier findet statt am\n25. September 2014 ab 20 Uhr \nVeranstaltungsort \nBrauhaus Lemke Hackescher Markt\nDircksenstraße\, S-Bahnbogen 143\,144 | 10178 Berlin-Mitte\nTelefon +49 (30) 247 287 27 | Telefax +49 (30) 247 287 28\nhackeschermarkt@brauhaus-lemke.de \nDas Berlin-Brandenburger Brandschutz-Bier ist ein Zusammentreffen von Brandschützern und Brandschutzinteressierten in lockerer Runde. \nAußerhalb der “Tagesordnung“ erörtern Brandschutzplaner\, Brandschutzbeauftragte\, Hersteller von Brandschutzprodukten und sonstige Interessierte mehr oder weniger aktuelle Themen und Ereignisse. \nIm Mittelpunkt dieser gemischten Brandschutz-Runde stehen das gesellige Zusammensein\, Diskussionen und Anekdoten. Es darf gelacht und „gelästert“ werden. \nXING-Gruppe \nXING-Gruppe beitreten
URL:https://brandschutz-akademie-berlin.de/veranstaltung/15-berlin-brandenburger-brandschutz-bier/
LOCATION:Brauhaus Lemke Hackescher Markt\, Dirksenstraße 50\, Berlin\, Berlin\, 10178\, Germany
CATEGORIES:Berliner Brandschutz-Bier,Brandschutz-Bier
ATTACH;FMTTYPE=image/jpeg:https://brandschutz-akademie-berlin.de/wp-content/uploads/2014/02/Brandschutz-Bier.jpg
ORGANIZER;CN="Brandschutz Akademie Berlin (BAB)":MAILTO:info@brandschutz-akademie-berlin.de
END:VEVENT
END:VCALENDAR