BEGIN:VCALENDAR
VERSION:2.0
PRODID:-//Brandschutz Akademie Berlin GmbH - ECPv6.15.12.2//NONSGML v1.0//EN
CALSCALE:GREGORIAN
METHOD:PUBLISH
X-WR-CALNAME:Brandschutz Akademie Berlin GmbH
X-ORIGINAL-URL:https://brandschutz-akademie-berlin.de
X-WR-CALDESC:Veranstaltungen für Brandschutz Akademie Berlin GmbH
REFRESH-INTERVAL;VALUE=DURATION:PT1H
X-Robots-Tag:noindex
X-PUBLISHED-TTL:PT1H
BEGIN:VTIMEZONE
TZID:Europe/Berlin
BEGIN:DAYLIGHT
TZOFFSETFROM:+0100
TZOFFSETTO:+0200
TZNAME:CEST
DTSTART:20170326T010000
END:DAYLIGHT
BEGIN:STANDARD
TZOFFSETFROM:+0200
TZOFFSETTO:+0100
TZNAME:CET
DTSTART:20171029T010000
END:STANDARD
BEGIN:DAYLIGHT
TZOFFSETFROM:+0100
TZOFFSETTO:+0200
TZNAME:CEST
DTSTART:20180325T010000
END:DAYLIGHT
BEGIN:STANDARD
TZOFFSETFROM:+0200
TZOFFSETTO:+0100
TZNAME:CET
DTSTART:20181028T010000
END:STANDARD
BEGIN:DAYLIGHT
TZOFFSETFROM:+0100
TZOFFSETTO:+0200
TZNAME:CEST
DTSTART:20190331T010000
END:DAYLIGHT
BEGIN:STANDARD
TZOFFSETFROM:+0200
TZOFFSETTO:+0100
TZNAME:CET
DTSTART:20191027T010000
END:STANDARD
END:VTIMEZONE
BEGIN:VEVENT
DTSTART;TZID=Europe/Berlin:20180424T090000
DTEND;TZID=Europe/Berlin:20180424T163000
DTSTAMP:20260422T105221
CREATED:20180205T202542Z
LAST-MODIFIED:20180327T091638Z
UID:2162-1524560400-1524587400@brandschutz-akademie-berlin.de
SUMMARY:Brandschutz im Facility-Management
DESCRIPTION:Jeder Betreiber einer baulichen Anlage ist verantwortlich und gesetzlich verpflichtet\, für den ordnungsgemäßen Zustand und die Sicherheit der Immobilie zu sorgen. Eine besondere Rolle nimmt hierbei der vorbeugende Brandschutz ein.\nDas Seminar bietet einen vertiefenden Einblick in die Pflichten von Betreibern und Unternehmern\, die insbesondere bei Sonderbauten im Brandschutz organisiert\, koordiniert und umgesetzt werden müssen. Darüber hinaus wird auf Zusammenhänge und methodische Ansätze für den Umgang mit Bestandsgebäuden eingegangen. Zu den notwendigen Prüfungen werden die Grundlagen sowie die Dokumentation erläutert\, die aufgrund der Sicherheitsrelevanz der Bauteile und Anlagen erforderlich ist. \nZiel des Seminars ist es\, Gebäudebetreibern und Unternehmern sowie verantwortlichen Mitarbeitern von Eigentümern\, Nutzern und Dienstleistern\, einen Überblick über die Zusammenhänge im Brandschutz und die geeignete Methodik für den Umgang mit Brandschutz zu vermitteln. \n  \nDie Seminaleiterin\nGut 18 Jahre Erfahrung bringt Bianca Schwindl mit im Bereich Facility Management\, sie ist Fachplanerin für vorbeugenden Brandschutz und kennt sich im abwehrenden Brandschutz aus als ehemals erste Feuerwehrfrau einer mittelgroßen Freiwilligen Feuerwehr. Seit 2009 betreut sie freiberiflich Kunden aus verschiedensten Branchen zum Thema FM und ist u.a. Referentin für die TÜV SÜD Akademie. Dort ist sie an der Ausbildung der Fachwirte Facility Management (GEFMA) beteiligt. Darüber hinaus bietet sie regelmäßig offene und Inhouse-Seminare an. \n  \nAus dem Inhalt\nGrundlagen \n\nGenerelle Betreiber- und Unternehmerpflichten\, Aufgaben und Befugnisse\nGesetzeslage und Regelwerke zu Abnahme\, Folgeprüfung\, Instandhaltung im Brandschutz (Bauordnungsrecht\, Arbeitsschutz\, Sachversicherung etc.)\nÜberwachungsbedürftige brandschutztechnische Bauteile und Anlagen\nBedeutung der Baugenehmigung mit Brandschutznachweis für Projektma- nagement und laufenden Betrieb\n\nBrandschutz im Projektmanagement \n\nEinblick in die Landesbauordnung\, Definition von Schutzzielen\nBestandsschutz: Voraussetzung und Umgang\nKompensationsmöglichkeiten\nDokumentationspflicht\n\nBrandschutz im laufenden Betrieb \n\nVorbeugender Brandschutz: Facility Services im Spiegel von baulichem\, anlagentechnischen und organisatorischen Brandschutz\nRelevanz der Facility Services für wirksamen Brandschutz\nPrüfpflichten – Abnahmen\, Fristen\, Verantwortlichkeiten\, Dokumentation\n\nBrandschutz in der Arbeitsorganisation \n\nEinblick in das Beauftragtenwesen\nMethodik Brandschutzordnung\, Sammelstelle\, Flucht- und Rettungspläne\n\nTeilnahmebeitrag:   150\,00 € plus MwSt.\nab 2 Mitarbeitern einer Fima: 120\,00 € pro Person plus MwSt.\nAuszubildende/Studenten: 25\,00 € plus MwSt. \nAnmeldungen unter:  info@brandschutz-akademie-berlin.de  (Ulrike Oertel)
URL:https://brandschutz-akademie-berlin.de/veranstaltung/fm_april18/
LOCATION:Haus der Wirtschaft\, Am Schillertheater 2\, Berlin\, 10625\, Deutschland
ATTACH;FMTTYPE=image/jpeg:https://brandschutz-akademie-berlin.de/wp-content/uploads/2018/02/FM_3D-Bild.jpg
ORGANIZER;CN="Brandschutz Akademie Berlin (BAB)":MAILTO:info@brandschutz-akademie-berlin.de
END:VEVENT
END:VCALENDAR