BEGIN:VCALENDAR
VERSION:2.0
PRODID:-//Brandschutz Akademie Berlin GmbH - ECPv6.15.12.2//NONSGML v1.0//EN
CALSCALE:GREGORIAN
METHOD:PUBLISH
X-ORIGINAL-URL:https://brandschutz-akademie-berlin.de
X-WR-CALDESC:Veranstaltungen für Brandschutz Akademie Berlin GmbH
REFRESH-INTERVAL;VALUE=DURATION:PT1H
X-Robots-Tag:noindex
X-PUBLISHED-TTL:PT1H
BEGIN:VTIMEZONE
TZID:Europe/Berlin
BEGIN:DAYLIGHT
TZOFFSETFROM:+0100
TZOFFSETTO:+0200
TZNAME:CEST
DTSTART:20170326T010000
END:DAYLIGHT
BEGIN:STANDARD
TZOFFSETFROM:+0200
TZOFFSETTO:+0100
TZNAME:CET
DTSTART:20171029T010000
END:STANDARD
BEGIN:DAYLIGHT
TZOFFSETFROM:+0100
TZOFFSETTO:+0200
TZNAME:CEST
DTSTART:20180325T010000
END:DAYLIGHT
BEGIN:STANDARD
TZOFFSETFROM:+0200
TZOFFSETTO:+0100
TZNAME:CET
DTSTART:20181028T010000
END:STANDARD
BEGIN:DAYLIGHT
TZOFFSETFROM:+0100
TZOFFSETTO:+0200
TZNAME:CEST
DTSTART:20190331T010000
END:DAYLIGHT
BEGIN:STANDARD
TZOFFSETFROM:+0200
TZOFFSETTO:+0100
TZNAME:CET
DTSTART:20191027T010000
END:STANDARD
END:VTIMEZONE
BEGIN:VEVENT
DTSTART;TZID=Europe/Berlin:20180531T190000
DTEND;TZID=Europe/Berlin:20180531T230000
DTSTAMP:20260420T084414
CREATED:20180418T170956Z
LAST-MODIFIED:20180528T200040Z
UID:2223-1527793200-1527807600@brandschutz-akademie-berlin.de
SUMMARY:37. Berlin-Brandenburger Brandschutz-Bier®
DESCRIPTION:Achtung: Neue Location !!! \nHin und wieder passiert es mal. Wir müssen die Location wechseln! Das Stone Brewing House ist wegen einer anderen Veranstaltung ausgebucht. Wir werden es für eines der nächsten B-Biere wieder ins Visier nehmen. \nNun aber treffen wir uns auf der Capt’n Schillow\, eines von fünf Segel-Schiffen\, die 1909 als erste komplett aus Stahl gebaut wurden\, eine Bauweise\, die damals als innovativ galt. Die meisten Schiffe\, die zu dieser Zeit entstanden\, folgten noch der Tradition und hatten einen Boden aus Holz. Für die Capt’n Schillow war die neue Bauweise notwendig\, war sie doch für den Transport von Zement auf der Elbe konzipiert und gebaut worden. Obwohl die Capt’n Schillow später als Motorschiff unterwegs war\, segelte sie über 30 Jahre – mit Klüver\, Fock\, Groß- und Besansegel. \nMitten im zweiten Weltkrieg\, 1943\, wurde das Schiff nach Cuxhaven verkauft\, wo es verlängert und erhöht wurde. Außerdem kamen weitere Decksaufbauten dazu. So ausgestattet war die Capt’n Schillow als Küstenmmotorschiff hauptsächlich auf der Route nach Skandinavien eingesetzt. \nNach dem Krieg und in den weiteren Jahrzehnten war das Schiff weiterhin aktiv in Betrieb\, bevor es 1984 als Vereinssitz vom Emdener Yacht Club ein vorläufiges festes Zuhause bekam. \nIm Herbst 1996 allerdings ging es auf eine letzte große Fahrt. Die Capt’n Schillow wurde von der Ems an die Spree überführt und ging dort vor Anker\, wo es noch heute zu finden ist: an der Straße des 17. Juni 113\, direkt am Charlottenburger Tor. Dort wurde das Schiff zum Restaurantschiff ausgebaut. Und hier begrüßt es noch heute seine Gäste. \nÜbrigens : Den Namen „CAPT’N SCHILLOW“ erhielt das Schiff zu Ehren von Kapitän Werner Schillow\, Schiffsmakler und Nautiklehrer in Hamburg und Berlin und Begründer einer der ältesten Privatreedereien der Stadt. \n\nAnmeldungen nehmen wir gern über info@brandschutz-akademie-berlin.de (Ulrike Oertel) an und auch über WhatsApp (bei Nennung der Mobilnummer nehmen wir Sie in die Brandschutz-Bier-Gruppe auf) \nDie Brandschutz-Bier-Treffen in Berlin-Brandenburg finden in der Regel alle zwei Monate (ungerade Monate) am letzten Donnerstag im Monat statt. Das Brandschutz-Bier ist ein Selbstzahler-Event. \n  \n 
URL:https://brandschutz-akademie-berlin.de/veranstaltung/37-bb-bbier/
LOCATION:Capt’n Schwillow\, Straße des 17. Juni 113 am Charlottenburger Tor\, Berlin\, 10623\, Deutschland
ATTACH;FMTTYPE=image/jpeg:https://brandschutz-akademie-berlin.de/wp-content/uploads/2018/04/C.Schwillow_B-Bier-1.jpg
ORGANIZER;CN="Brandschutz Akademie Berlin (BAB)":MAILTO:info@brandschutz-akademie-berlin.de
END:VEVENT
END:VCALENDAR