BEGIN:VCALENDAR
VERSION:2.0
PRODID:-//Brandschutz Akademie Berlin GmbH - ECPv6.15.12.2//NONSGML v1.0//EN
CALSCALE:GREGORIAN
METHOD:PUBLISH
X-ORIGINAL-URL:https://brandschutz-akademie-berlin.de
X-WR-CALDESC:Veranstaltungen für Brandschutz Akademie Berlin GmbH
REFRESH-INTERVAL;VALUE=DURATION:PT1H
X-Robots-Tag:noindex
X-PUBLISHED-TTL:PT1H
BEGIN:VTIMEZONE
TZID:Europe/Berlin
BEGIN:DAYLIGHT
TZOFFSETFROM:+0100
TZOFFSETTO:+0200
TZNAME:CEST
DTSTART:20180325T010000
END:DAYLIGHT
BEGIN:STANDARD
TZOFFSETFROM:+0200
TZOFFSETTO:+0100
TZNAME:CET
DTSTART:20181028T010000
END:STANDARD
BEGIN:DAYLIGHT
TZOFFSETFROM:+0100
TZOFFSETTO:+0200
TZNAME:CEST
DTSTART:20190331T010000
END:DAYLIGHT
BEGIN:STANDARD
TZOFFSETFROM:+0200
TZOFFSETTO:+0100
TZNAME:CET
DTSTART:20191027T010000
END:STANDARD
BEGIN:DAYLIGHT
TZOFFSETFROM:+0100
TZOFFSETTO:+0200
TZNAME:CEST
DTSTART:20200329T010000
END:DAYLIGHT
BEGIN:STANDARD
TZOFFSETFROM:+0200
TZOFFSETTO:+0100
TZNAME:CET
DTSTART:20201025T010000
END:STANDARD
END:VTIMEZONE
BEGIN:VEVENT
DTSTART;TZID=Europe/Berlin:20190131T190000
DTEND;TZID=Europe/Berlin:20190131T230000
DTSTAMP:20260419T190246
CREATED:20190108T164312Z
LAST-MODIFIED:20190109T083914Z
UID:2359-1548961200-1548975600@brandschutz-akademie-berlin.de
SUMMARY:41. Berlin-Brandenburger Brandschutz-Bier®
DESCRIPTION:Man sollte es nicht glauben\, wie viele schöne Altberliner Restaurants es in Berlin gibt\, einige haben wir anlässlich des Berlin-Brandenburger Brandschutz-Bieres schon getestet\, dieses Mal ist das Restaurant Neumann’s in Alt-Moabit dran. In der gleichnamigen Straße Alt-Moabit 126 befindet es sich ganz in der Nähe des Reichstagsgebäudes wie auch des Bundeskanzleramtes\, des Bundespräsidialamtes\, der Siegessäule und des Hauptbahnhofes. \nNeben dieser zentralen Lage bietet das Restaurant Neumann’s 140 Sitzplätze – reicht gerade so für uns -\, eine kreative deutsche und internationale Küche (Bayerischen Leberkäse) sowie – nicht ganz unwichtig für uns – sechs Biersorten vom Fass und diverse Flaschenbiere. Wein und Alkoholfreies gibt es natürlich auch. Wir freuen uns\, wenn wir Sie/euch zum Jahresauftrakt begrüßen dürfen. Auf dass wir 2019 gemeinsam und schwungvoll planen können. \nAnmeldungen nehmen wir gern über info@brandschutz-akademie-berlin.de (Ulrike Oertel) an und auch über WhatsApp (bei Nennung der Mobilnummer nehmen wir Sie in die Brandschutz-Bier-Gruppe auf) \n© Foto: Restaurant Neumann’s  \nDie Brandschutz-Bier-Treffen in Berlin-Brandenburg finden in der Regel alle zwei Monate (ungerade Monate) am letzten Donnerstag im Monat statt. Das Brandschutz-Bier ist ein Selbstzahler-Event.
URL:https://brandschutz-akademie-berlin.de/veranstaltung/41-bb-bb/
LOCATION:Restaurant Neumann’s\, Alt-Moabit 126\, Berlin\, 10557\, Deutschland
CATEGORIES:Brandschutz-Bier
ATTACH;FMTTYPE=image/jpeg:https://brandschutz-akademie-berlin.de/wp-content/uploads/2018/11/BerlinerKindl.jpg
ORGANIZER;CN="Brandschutz Akademie Berlin (BAB)":MAILTO:info@brandschutz-akademie-berlin.de
END:VEVENT
END:VCALENDAR